BEGIN:VCALENDAR
VERSION:2.0
PRODID:-//Bull Riders Challenge - ECPv6.6.4.2//NONSGML v1.0//EN
CALSCALE:GREGORIAN
METHOD:PUBLISH
X-WR-CALNAME:Bull Riders Challenge
X-ORIGINAL-URL:https://bullriderschallenge.com
X-WR-CALDESC:Events for Bull Riders Challenge
REFRESH-INTERVAL;VALUE=DURATION:PT1H
X-Robots-Tag:noindex
X-PUBLISHED-TTL:PT1H
BEGIN:VTIMEZONE
TZID:America/Denver
BEGIN:DAYLIGHT
TZOFFSETFROM:-0700
TZOFFSETTO:-0600
TZNAME:MDT
DTSTART:20170312T090000
END:DAYLIGHT
BEGIN:STANDARD
TZOFFSETFROM:-0600
TZOFFSETTO:-0700
TZNAME:MST
DTSTART:20171105T080000
END:STANDARD
TZID:UTC
BEGIN:STANDARD
TZOFFSETFROM:+0000
TZOFFSETTO:+0000
TZNAME:UTC
DTSTART:20160101T000000
END:STANDARD
TZID:America/Denver
BEGIN:DAYLIGHT
TZOFFSETFROM:-0700
TZOFFSETTO:-0600
TZNAME:MDT
DTSTART:20160313T090000
END:DAYLIGHT
BEGIN:STANDARD
TZOFFSETFROM:-0600
TZOFFSETTO:-0700
TZNAME:MST
DTSTART:20161106T080000
END:STANDARD
END:VTIMEZONE
BEGIN:VEVENT
DTSTART;TZID=America/Denver:20170120T190000
DTEND;TZID=America/Denver:20170120T230000
DTSTAMP:20260419T085539
CREATED:20161104T235531Z
LAST-MODIFIED:20161104T235531Z
UID:259-1484938800-1484953200@bullriderschallenge.com
SUMMARY:Lane Frost Challenge - Vernal\, Utah
DESCRIPTION:Bull Riding
URL:https://bullriderschallenge.com/event/lane-frost-challenge-vernal-utah-2017/
LOCATION:Western Park\, 300 E 200 S\, Vernal\, UT\, United States
END:VEVENT
BEGIN:VEVENT
DTSTART;TZID=UTC:20161022T140000
DTEND;TZID=UTC:20161022T170000
DTSTAMP:20260419T085539
CREATED:20151231T012929Z
LAST-MODIFIED:20151231T232906Z
UID:157-1477144800-1477155600@bullriderschallenge.com
SUMMARY:Lane Frost Challenge - Mona\, Utah
DESCRIPTION:Bulls\, Broncs & Barrels \nContestant Entry
URL:https://bullriderschallenge.com/event/lane-frost-challenge-mona-utah-2/
LOCATION:Young Living Lavender Farm\, 3700 North Highway 91\, Mona\, UT\, 84645\, United States
END:VEVENT
BEGIN:VEVENT
DTSTART;TZID=UTC:20160916T190000
DTEND;TZID=UTC:20160916T230000
DTSTAMP:20260419T085539
CREATED:20151231T012832Z
LAST-MODIFIED:20151231T232921Z
UID:155-1474052400-1474066800@bullriderschallenge.com
SUMMARY:Lane Frost Challenge - Mona\, Utah
DESCRIPTION:Bull Riding \nContestant Entry
URL:https://bullriderschallenge.com/event/lane-frost-challenge-mona-utah/
LOCATION:Young Living Lavender Farm\, 3700 North Highway 91\, Mona\, UT\, 84645\, United States
END:VEVENT
BEGIN:VEVENT
DTSTART;TZID=UTC:20160123T190000
DTEND;TZID=UTC:20160123T230000
DTSTAMP:20260419T085539
CREATED:20151231T012500Z
LAST-MODIFIED:20151231T024512Z
UID:154-1453575600-1453590000@bullriderschallenge.com
SUMMARY:Lane Frost Challenge: Championship - Vernal\, Utah
DESCRIPTION:Bull Riding \nContestant Entry \nPurchase Tickets
URL:https://bullriderschallenge.com/event/lane-frost-challenge-championship-vernal-utah/
LOCATION:Western Park\, 300 E 200 S\, Vernal\, UT\, United States
END:VEVENT
BEGIN:VEVENT
DTSTART;TZID=America/Denver:20160122T190000
DTEND;TZID=America/Denver:20160122T230000
DTSTAMP:20260419T085539
CREATED:20151231T010658Z
LAST-MODIFIED:20151231T024727Z
UID:152-1453489200-1453503600@bullriderschallenge.com
SUMMARY:Lane Frost Challenge - Vernal\, Utah
DESCRIPTION:Bull Riding \nContestant Entry \nPurchase Tickets
URL:https://bullriderschallenge.com/event/lane-frost-challenge-vernal-utah/
LOCATION:Western Park\, 300 E 200 S\, Vernal\, UT\, United States
END:VEVENT
END:VCALENDAR